BEGIN:VCALENDAR
VERSION:2.0
PRODID:-//Squarespace Inc/Squarespace 6//v6//EN
BEGIN:VEVENT
UID:5fb715adb62447524038feed@squarespace.com
DTSTAMP:20201120T022624Z
DTSTART:20201120T200000Z
DTEND:20201121T010000Z
SUMMARY:Grapplers Nation
GEO:-40.362291;175.590194
LOCATION:Combat Room\, 155 Highbury Avenue\, Palmerston North\, Manawatu-Wa
 nganui\, 4412\, New Zealand
END:VEVENT
END:VCALENDAR
