BEGIN:VCALENDAR
VERSION:2.0
PRODID:-//Squarespace Inc/Squarespace 6//v6//EN
BEGIN:VEVENT
UID:5fb717fe3d9e5a38e11f1a50@squarespace.com
DTSTAMP:20201120T021946Z
DTSTART:20201212T040000Z
DTEND:20201212T100000Z
SUMMARY:Night of Assassins
GEO:-39.930982;175.030388
LOCATION:Night of Assassins\, 222 London Street\, Manawatu-Wanganui\, 4500\
 , New Zealand
END:VEVENT
END:VCALENDAR
